BEGIN:VCALENDAR
VERSION:2.0
PRODID:
BEGIN:VEVENT
UID:153159st
DTSTAMP:20260419T224225Z
DTSTART:20260611T213000Z
DTEND:20260611T233000Z
LOCATION: Social Capital (Oklahoma City\, 73109)
SUMMARY: OSCPA Mix & Mingle - Tacos and Taps
DESCRIPTION: Let’s be honest\, tacos make everything better. \n  \nKick off the OSCPA's Annual Members Meeting with Tacos &amp\; Taps\, a relaxed\, high-energy mixer in the heart of downtown OKC at Social Capital. We’re bringing members together for an evening built around conversation\, connection\, and community\n \nWhat to expect:\n  \n\nNo presentations. \nNo pressure. \nGood people\, good food\, and even better drinks in the heart of downtown OKC. \nWhether you’re heading to the Annual Members Meeting the following day or just stopping by for the social hour\, this event is open to all OSCPA members looking to meet fellow CPAs\, swap stories from the trenches\, and build relationships that go beyond email signatures. \n  \nCome for the connections. Stay for the tacos. Leave with a few new contacts\, and maybe a new favorite beer\n 
CLASS:PUBLIC
END:VEVENT
END:VCALENDAR
