BEGIN:VCALENDAR
VERSION:2.0
PRODID:
BEGIN:VEVENT
UID:153149cf
DTSTAMP:20260420T064655Z
DTSTART:20260818T170000Z
DTEND:20260818T180000Z
LOCATION: Online
SUMMARY: OSCPA's August Lunch + Learn - VIRTUAL
DESCRIPTION: <a href="https://www.oscpa.com/resources/199-your-membership-20-hours-of-cpe-for-free"></a>\n  \nJoin the OSCPA for our monthly Lunch + Learn event over topics important to Oklahoma CPAs. As part of your OSCPA membership your registration for this event is FREE*. The topic and speaker for this specific event will be updated at a later date\n \nIn-person Seminar: Do you prefer to join us in person? <a href="https://www.oscpa.com/cpe/153137cf:oscpa-s-august-lunch-learn-oklahoma-city?q=603">Sign up for the in-person seminar here!</a>\n  \n*Must be a member in good standing at the time of the course. Members are not automatically registered and must sign up to attend as registration is available. Find more information <a href="https://www.oscpa.com/cpeinfo">here</a>.\n  
CLASS:PUBLIC
END:VEVENT
END:VCALENDAR
