BEGIN:VCALENDAR
VERSION:2.0
PRODID:
BEGIN:VEVENT
UID:153139cf
DTSTAMP:20260420T052616Z
DTSTART:20261020T170000Z
DTEND:20261020T180000Z
LOCATION: The Meeting Room (Oklahoma City\, 73118)
SUMMARY: OSCPA's October Lunch + Learn - Oklahoma City
DESCRIPTION: <a href="https://www.oscpa.com/resources/199-your-membership-20-hours-of-cpe-for-free"></a>\n  \nJoin the OSCPA for our monthly Lunch + Learn event over topics important to Oklahoma CPAs. As part of your OSCPA membership your registration for this event is FREE*. The topic and speaker for this specific event will be updated at a later date\n \nLive Stream Option: Can't join us in person? <a href="https://www.oscpa.com/cpe/153139cf:oscpa-s-october-lunch-learn-oklahoma-city?q=605">Join us virtually by signing up for the live stream option.</a> \n  \n*Must be a member in good standing at the time of the course. Members are not automatically registered and must sign up to attend as registration is available. Find more information <a href="https://www.oscpa.com/cpeinfo">here</a>.\n  
CLASS:PUBLIC
END:VEVENT
END:VCALENDAR
