BEGIN:VCALENDAR
VERSION:2.0
PRODID:
BEGIN:VEVENT
UID:153134cf
DTSTAMP:20260420T064406Z
DTSTART:20260519T170000Z
DTEND:20260519T180000Z
LOCATION: The Meeting Room (Oklahoma City\, 73118)
SUMMARY: OSCPA's May Lunch + Learn: Update from the Federal Reserve - Oklahoma City
DESCRIPTION: <a href="https://www.oscpa.com/resources/199-your-membership-20-hours-of-cpe-for-free"></a>\n  \nJoin the OSCPA for our monthly Lunch + Learn event over topics important to Oklahoma CPAs. Join Chase Farha from the Federal Reserve of Kansas City - Oklahoma City branch as he provides an update on recent events. As part of your OSCPA membership your registration for this event is FREE*\n \nLive Stream Option: Can't join us in person? <a href="https://www.oscpa.com/cpe/153146cf:oscpa-s-may-lunch-learn-virtual?q=600">Join us virtually by signing up for the live stream option.</a> \n  \n*Must be a member in good standing at the time of the course. Members are not automatically registered and must sign up to attend as registration is available. Find more information <a href="https://www.oscpa.com/cpeinfo">here</a>.\n  
CLASS:PUBLIC
END:VEVENT
END:VCALENDAR
