BEGIN:VCALENDAR
VERSION:2.0
PRODID:
BEGIN:VEVENT
UID:153096cf
DTSTAMP:20260420T040629Z
DTSTART:20260521T190000Z
DTEND:20260521T200000Z
LOCATION: Online
SUMMARY: Small Firm Practitioners Roundtable: Preferred Technology Platforms
DESCRIPTION: Choosing the right technology can make or break your efficiency. But with so many platforms on the market\, how do you choose? \n  \nThis roundtable brings together CPAs\, industry leaders\, and technology vendors to discuss what's actually working and what you should consider when evaluating your tech stack. We'll have an open discussion around accounting\, tax\, audit\, client management\, and cybersecurity tools\, including what's working\, what's not\, and what you wish you'd have known sooner. \n  \nTo add practical perspective\, accounting technology experts and select platform vendors will also join the conversation to answer questions\, provide their input\, and help demystify how different tools fit together in a modern firm. \n  \nExpect real-world experiences\, candid conversations\, and actionable takeaways you can use to evaluate or refine your firm's tech. No pitches\, no sponsors\, just conversations with fellow CPAs and industry experts. \n  \nHosted by the OSCPA's Small Firms Committee. \n  \nThis event is designed for discussion and peer sharing\, and is not eligible for CPE credit. \n  \n \n  
CLASS:PUBLIC
END:VEVENT
END:VCALENDAR
