BEGIN:VCALENDAR
VERSION:2.0
PRODID:
BEGIN:VEVENT
UID:150624mb
DTSTAMP:20260424T092458Z
DTSTART:20260427T180000Z
DTEND:20260427T213900Z
LOCATION: Online
SUMMARY: Deep Dive into Common Auditing Deficiencies
DESCRIPTION: This course will review common deficiencies identified by the AICPA and state boards of accountancy. It features discussion on a variety of topics\, including analytical procedures\, sampling\, group audits\, and risk assessment. We will review the areas of concern and how you can overcome them by employing best practices\n 
CLASS:PUBLIC
END:VEVENT
END:VCALENDAR
