BEGIN:VCALENDAR
VERSION:2.0
PRODID:
BEGIN:VEVENT
UID:150619mb
DTSTAMP:20260423T034806Z
DTSTART:20260424T150000Z
DTEND:20260424T225100Z
LOCATION: Online
SUMMARY: Introduction to Yellow Book: 8-Credit Boot Camp
DESCRIPTION: This 8-credit boot camp is perfect for accountants in public practice or industry who work with nonprofit and governmental entities. The course starts by exploring key financial reporting differences for these organizations\, providing a solid foundation for understanding what makes their accounting and auditing unique. Participants will then dive into the essentials of Yellow Book and Uniform Guidance audits\, gaining practical insights to confidently navigate these specialized areas. Whether you&#39\;re new to the nonprofit and governmental arena or seeking a refresher\, this course equips you with the knowledge and tools to succeed.
 \n  
CLASS:PUBLIC
END:VEVENT
END:VCALENDAR
