BEGIN:VCALENDAR
VERSION:2.0
PRODID:
BEGIN:VEVENT
UID:149384mb
DTSTAMP:20260424T074644Z
DTSTART:20260427T190000Z
DTEND:20260427T223700Z
LOCATION: Online
SUMMARY: The Role of Internal Control in the Risk-Based Audit
DESCRIPTION: This program explores the role of client internal controls for balancing efficiency and effectiveness in a risk-based audit. We offer practical insights regarding an auditor&#39\;s assessment of the risk of material misstatement when auditing financial statements of non-issuers\, with particular emphasis on internal controls of small-to-medium clients\n 
CLASS:PUBLIC
END:VEVENT
END:VCALENDAR
