BEGIN:VCALENDAR
VERSION:2.0
PRODID:
BEGIN:VEVENT
UID:149372mb
DTSTAMP:20260423T174106Z
DTSTART:20260424T190000Z
DTEND:20260424T205200Z
LOCATION: Online
SUMMARY: Microsoft Excel: Moving Beyond the Basics
DESCRIPTION: This course explores the increasingly complex features of Excel that facilitate efficient data analysis.  We will introduce numerous analytical methods and techniques by using practical examples to illustrate how to unleash the power of Excel when manipulating\, analyzing and reporting information\n 
CLASS:PUBLIC
END:VEVENT
END:VCALENDAR
