BEGIN:VCALENDAR
VERSION:2.0
PRODID:
BEGIN:VEVENT
UID:149363mb
DTSTAMP:20260423T034717Z
DTSTART:20260424T150000Z
DTEND:20260424T190000Z
LOCATION: Online
SUMMARY: S Corporation Essentials: Review & Update
DESCRIPTION: This program addresses the critical issues and special opportunities facing S-corporations\, with a focus on reporting shareholder basis and distributions\n 

**Please Note:  If you need credit reported to the IRS for this IRS approved program\, please download the IRS CE request form on the Course Materials Tab and submit to <a href="mailto:kori.herrera@acpen.com" target="_blank">kori.herrera@acpen.com</a>\n 
CLASS:PUBLIC
END:VEVENT
END:VCALENDAR
