BEGIN:VCALENDAR
VERSION:2.0
PRODID:
BEGIN:VEVENT
UID:149333mb
DTSTAMP:20260422T150008Z
DTSTART:20260422T190000Z
DTEND:20260422T230000Z
LOCATION: Online
SUMMARY: Fiduciary Accounting for Estates and Trusts
DESCRIPTION: Financial accounting for trusts and estates is one of the least understood branches of accounting. It is not particularly concerned with recording income and expenses but is obsessed with determining whether receipts and expenditures are assigned to income or principal/corpus. This course will dive into this tricky area and provide a reporting guide for fiduciary accounting\n 
CLASS:PUBLIC
END:VEVENT
END:VCALENDAR
