BEGIN:VCALENDAR
VERSION:2.0
PRODID:
BEGIN:VEVENT
UID:149332mb
DTSTAMP:20260422T174426Z
DTSTART:20260422T180000Z
DTEND:20260422T210000Z
LOCATION: Online
SUMMARY: Managing Your Money in Retirement
DESCRIPTION: You spent your life building retirement savings.  Now you want to make sure your savings last the rest of your life and perhaps pass some on to the next generation.  Come hear a veteran financial educator talk about money management and planning issues for this phase of your life.  \n  
CLASS:PUBLIC
END:VEVENT
END:VCALENDAR
