BEGIN:VCALENDAR
VERSION:2.0
PRODID:
BEGIN:VEVENT
UID:145900mb
DTSTAMP:20260422T150240Z
DTSTART:20260422T200000Z
DTEND:20260422T210100Z
LOCATION: Online
SUMMARY: Working Through Grief and Loss - How to Build a Supportive Workplace
DESCRIPTION: Now more than ever\, navigating loss\, grief and crisis in the workplace is a skillset that leaders must possess. Keeping the heart in human resources is so important\, especially in this post-pandemic state we are living in. We will explore ways that you can show empathy to your employees while also balancing your business needs. \n  
CLASS:PUBLIC
END:VEVENT
END:VCALENDAR
