BEGIN:VCALENDAR
VERSION:2.0
PRODID:
BEGIN:VEVENT
UID:145896mb
DTSTAMP:20260422T145912Z
DTSTART:20260422T190000Z
DTEND:20260422T201300Z
LOCATION: Online
SUMMARY: Performance Management - Hiring to Retiring
DESCRIPTION: How you onboard a new employee is critical in ensuring they understand your company culture and are immersed properly in your organization. On the flipside\, in the event you are dealing with an employee termination\, this too is critical in handling with care and sensitivity.  \n  
CLASS:PUBLIC
END:VEVENT
END:VCALENDAR
